BEGIN:VCALENDAR
VERSION:2.0
PRODID:-//ISPI Novo Portal
CALSCALE:GREGORIAN
METHOD:PUBLISH
X-WR-CALNAME:ISPI Novo Portal
X-ORIGINAL-URL:https://ispi.site/event/asph/
X-WR-CALDESC:ASPH visita ISPI
BEGIN:VEVENT
DTSTART:20210301T093000
DTEND:
SUMMARY:ASPH visita ISPI
DESCRIPTION:Os Representantes da Associação de Surdos Provincial da Huíla - ASPH realizam, segunda-feira (1 de Março), uma visita as instalações do ISPI, no âmbito das celebrações do seu aniversária assinalar-se no dia 12 de Março.

Além de constatarem o funcionamento das várias áreas, os visitantes pretendem refectir em conjunto com a a comunidade académica do ISPI sobre o contributo da instituição na comunidade surda huillana.  
LOCATION:
END:VEVENT
END:VCALENDAR
