BEGIN:VCALENDAR
VERSION:2.0
PRODID:-//ISPI Novo Portal
CALSCALE:GREGORIAN
METHOD:PUBLISH
X-WR-CALNAME:ISPI Novo Portal
X-ORIGINAL-URL:https://ispi.site/event/artes-e-saberes-na-dinamizacao-da-cultura-angolana/
X-WR-CALDESC:Biblioteca do ISPI Exibe Artes e Saberes na Dinamização da Cultura Angolana.
BEGIN:VEVENT
DTSTART:20210419T143000
DTEND:
SUMMARY:Biblioteca do ISPI Exibe Artes e Saberes na Dinamização da Cultura Angolana.
DESCRIPTION:
Primeira Exposição de Artes e Saberes da Biblioteca do ISPI.

Denominada EXIB 2021 - Artes e Saberes na Dinamização da Cultura Angolana.
LOCATION:Cristo Rei, Lubango
END:VEVENT
END:VCALENDAR
