BEGIN:VCALENDAR
VERSION:2.0
PRODID:-//ISPI Novo Portal
CALSCALE:GREGORIAN
METHOD:PUBLISH
X-WR-CALNAME:ISPI Novo Portal
X-ORIGINAL-URL:https://ispi.site/event/ispi-curso-de-ingles/
X-WR-CALDESC:ISPI promove curso de Inglês
BEGIN:VEVENT
DTSTART:20210504T000000
DTEND:20210504T000000
SUMMARY:ISPI promove curso de Inglês
DESCRIPTION:Um curso de inglês para toda comunidade académica do ISPI, venha participar.
LOCATION:Luanda, Angola
END:VEVENT
END:VCALENDAR
