BEGIN:VCALENDAR
VERSION:2.0
PRODID:-//ISPI Novo Portal
CALSCALE:GREGORIAN
METHOD:PUBLISH
X-WR-CALNAME:ISPI Novo Portal
X-ORIGINAL-URL:https://ispi.site/event/candidatos-presidencia-ae/
X-WR-CALDESC:Candidatos à Presidencia da AE são apresentados
BEGIN:VEVENT
DTSTART:20210312T153000
DTEND:
SUMMARY:Candidatos à Presidencia da AE são apresentados
DESCRIPTION:Os três candidatos à presidente da Associação dos Estudantes do ISPI serão apresentados, segunda-feira (15 de Março) aos eleitores ( delegados e sub-delegados de turmas) , numa cerimónia a decorrer no Auditório Nobre do ISPI. 
LOCATION:
END:VEVENT
END:VCALENDAR
