BEGIN:VCALENDAR
VERSION:2.0
PRODID:-//ISPI Novo Portal
CALSCALE:GREGORIAN
METHOD:PUBLISH
X-WR-CALNAME:ISPI Novo Portal
X-ORIGINAL-URL:https://ispi.site/event/congresso-internacional-das-tics-regiao-sul-de-angola/
X-WR-CALDESC:CONGRESSO INTERNACIONAL DAS TICS &#8211; REGIAO SUL DE ANGOLA
BEGIN:VEVENT
DTSTART:20260114T060000
DTEND:20260115T100000
SUMMARY:CONGRESSO INTERNACIONAL DAS TICS &#8211; REGIAO SUL DE ANGOLA
DESCRIPTION:
LOCATION:
END:VEVENT
END:VCALENDAR
