BEGIN:VCALENDAR
VERSION:2.0
PRODID:-//ISPI Novo Portal
CALSCALE:GREGORIAN
METHOD:PUBLISH
X-WR-CALNAME:ISPI Novo Portal
X-ORIGINAL-URL:https://ispi.site/event/palestra-alusivo-ao-dia-da-matematica/
X-WR-CALDESC:PALESTRA ALUSIVO AO DIA DA MATEMÁTICA
BEGIN:VEVENT
DTSTART:20250318T090000
DTEND:20250318T000000
SUMMARY:PALESTRA ALUSIVO AO DIA DA MATEMÁTICA
DESCRIPTION:
LOCATION:
END:VEVENT
END:VCALENDAR
