BEGIN:VCALENDAR
VERSION:2.0
PRODID:-//ISPI Novo Portal
CALSCALE:GREGORIAN
METHOD:PUBLISH
X-WR-CALNAME:ISPI Novo Portal
X-ORIGINAL-URL:https://ispi.site/event/conferencia-sobre-transformacao-digital/
X-WR-CALDESC:CONFERÊNCIA SOBRE TRANSFORMAÇÃO DIGITAL
BEGIN:VEVENT
DTSTART:20240503T100000
DTEND:
SUMMARY:CONFERÊNCIA SOBRE TRANSFORMAÇÃO DIGITAL
DESCRIPTION:
LOCATION:
END:VEVENT
END:VCALENDAR
