BEGIN:VCALENDAR
VERSION:2.0
PRODID:-//ISPI Novo Portal
CALSCALE:GREGORIAN
METHOD:PUBLISH
X-WR-CALNAME:ISPI Novo Portal
X-ORIGINAL-URL:https://ispi.site/event/outorga-de-diplomas-do-ispi-2022-2023/
X-WR-CALDESC:OUTORGA DE DIPLOMAS DO ISPI 2022/2023
BEGIN:VEVENT
DTSTART:20240412T140000
DTEND:
SUMMARY:OUTORGA DE DIPLOMAS DO ISPI 2022/2023
DESCRIPTION:
LOCATION:
END:VEVENT
END:VCALENDAR
