BEGIN:VCALENDAR
VERSION:2.0
PRODID:-//ISPI Novo Portal
CALSCALE:GREGORIAN
METHOD:PUBLISH
X-WR-CALNAME:ISPI Novo Portal
X-ORIGINAL-URL:https://ispi.site/event/abertura-do-ano-lectivo-2023-2024/
X-WR-CALDESC:Abertura do ano lectivo 2023/2024
BEGIN:VEVENT
DTSTART:
DTEND:
SUMMARY:Abertura do ano lectivo 2023/2024
DESCRIPTION:
LOCATION:
END:VEVENT
END:VCALENDAR
