BEGIN:VCALENDAR
VERSION:2.0
PRODID:-//ISPI Novo Portal
CALSCALE:GREGORIAN
METHOD:PUBLISH
X-WR-CALNAME:ISPI Novo Portal
X-ORIGINAL-URL:https://ispi.site/event/workshop-sobre-comunicacao/
X-WR-CALDESC:WORKSHOP sobre comunicação
BEGIN:VEVENT
DTSTART:20231013T000000
DTEND:20231014T000000
SUMMARY:WORKSHOP sobre comunicação
DESCRIPTION:
LOCATION:
END:VEVENT
END:VCALENDAR
