BEGIN:VCALENDAR
VERSION:2.0
PRODID:-//ISPI Novo Portal
CALSCALE:GREGORIAN
METHOD:PUBLISH
X-WR-CALNAME:ISPI Novo Portal
X-ORIGINAL-URL:https://ispi.site/event/inicio-das-aulas-2/
X-WR-CALDESC:Início das aulas
BEGIN:VEVENT
DTSTART:20231009T080000
DTEND:
SUMMARY:Início das aulas
DESCRIPTION:
LOCATION:
END:VEVENT
END:VCALENDAR
