BEGIN:VCALENDAR
VERSION:2.0
PRODID:-//ISPI Novo Portal
CALSCALE:GREGORIAN
METHOD:PUBLISH
X-WR-CALNAME:ISPI Novo Portal
X-ORIGINAL-URL:https://ispi.site/event/abertura-da-academia-de-comunicacao/
X-WR-CALDESC:Abertura da Academia de Comunicação
BEGIN:VEVENT
DTSTART:20231016T080000
DTEND:
SUMMARY:Abertura da Academia de Comunicação
DESCRIPTION:
LOCATION:
END:VEVENT
END:VCALENDAR
