BEGIN:VCALENDAR
VERSION:2.0
PRODID:-//ISPI Novo Portal
CALSCALE:GREGORIAN
METHOD:PUBLISH
X-WR-CALNAME:ISPI Novo Portal
X-ORIGINAL-URL:https://ispi.site/event/confirmacao-de-matricula/
X-WR-CALDESC:Confirmação de Matrícula
BEGIN:VEVENT
DTSTART:20230821T000000
DTEND:20230922T000000
SUMMARY:Confirmação de Matrícula
DESCRIPTION:
LOCATION:
END:VEVENT
END:VCALENDAR
