BEGIN:VCALENDAR
VERSION:2.0
PRODID:-//ISPI Novo Portal
CALSCALE:GREGORIAN
METHOD:PUBLISH
X-WR-CALNAME:ISPI Novo Portal
X-ORIGINAL-URL:https://ispi.site/event/confirmacoes-abertas/
X-WR-CALDESC:Confirmações Abertas
BEGIN:VEVENT
DTSTART:20230821T080000
DTEND:
SUMMARY:Confirmações Abertas
DESCRIPTION:
LOCATION:
END:VEVENT
END:VCALENDAR
