BEGIN:VCALENDAR
VERSION:2.0
PRODID:-//ISPI Novo Portal
CALSCALE:GREGORIAN
METHOD:PUBLISH
X-WR-CALNAME:ISPI Novo Portal
X-ORIGINAL-URL:https://ispi.site/event/ensino-primario-exames-de-acesso/
X-WR-CALDESC:Ensino Primário &#8211; Exames de Acesso
BEGIN:VEVENT
DTSTART:20230821T140000
DTEND:20230823T140000
SUMMARY:Ensino Primário &#8211; Exames de Acesso
DESCRIPTION:
LOCATION:
END:VEVENT
END:VCALENDAR
