BEGIN:VCALENDAR
VERSION:2.0
PRODID:-//ISPI Novo Portal
CALSCALE:GREGORIAN
METHOD:PUBLISH
X-WR-CALNAME:ISPI Novo Portal
X-ORIGINAL-URL:https://ispi.site/event/exames-de-epoca-especial-2/
X-WR-CALDESC:Exames de época especial
BEGIN:VEVENT
DTSTART:20230814T080000
DTEND:20230819T210000
SUMMARY:Exames de época especial
DESCRIPTION:
LOCATION:
END:VEVENT
END:VCALENDAR
