BEGIN:VCALENDAR
VERSION:2.0
PRODID:-//ISPI Novo Portal
CALSCALE:GREGORIAN
METHOD:PUBLISH
X-WR-CALNAME:ISPI Novo Portal
X-ORIGINAL-URL:https://ispi.site/event/exames-de-epoca-especial/
X-WR-CALDESC:Exames de Época Especial
BEGIN:VEVENT
DTSTART:20230821T090000
DTEND:20230821T140000
SUMMARY:Exames de Época Especial
DESCRIPTION:
LOCATION:
END:VEVENT
END:VCALENDAR
