BEGIN:VCALENDAR
VERSION:2.0
PRODID:-//ISPI Novo Portal
CALSCALE:GREGORIAN
METHOD:PUBLISH
X-WR-CALNAME:ISPI Novo Portal
X-ORIGINAL-URL:https://ispi.site/event/feliz-aniversario-ispi/
X-WR-CALDESC:Feliz Aniversário ISPI
BEGIN:VEVENT
DTSTART:20230805T070000
DTEND:20230805T220000
SUMMARY:Feliz Aniversário ISPI
DESCRIPTION:
LOCATION:
END:VEVENT
END:VCALENDAR
