BEGIN:VCALENDAR
VERSION:2.0
PRODID:-//ISPI Novo Portal
CALSCALE:GREGORIAN
METHOD:PUBLISH
X-WR-CALNAME:ISPI Novo Portal
X-ORIGINAL-URL:https://ispi.site/event/seminario-pre-congresso-cientifico-da-riec/
X-WR-CALDESC:Seminário pré-congresso científico da RIEC
BEGIN:VEVENT
DTSTART:20230615T110000
DTEND:20230615T123000
SUMMARY:Seminário pré-congresso científico da RIEC
DESCRIPTION:
LOCATION:
END:VEVENT
END:VCALENDAR
