BEGIN:VCALENDAR
VERSION:2.0
PRODID:-//ISPI Novo Portal
CALSCALE:GREGORIAN
METHOD:PUBLISH
X-WR-CALNAME:ISPI Novo Portal
X-ORIGINAL-URL:https://ispi.site/event/dialogos-sobre-o-covid-19/
X-WR-CALDESC:Diálogos sobre o Covid-19
BEGIN:VEVENT
DTSTART:20230615T110000
DTEND:20230615T130000
SUMMARY:Diálogos sobre o Covid-19
DESCRIPTION:
LOCATION:
END:VEVENT
END:VCALENDAR
