BEGIN:VCALENDAR
VERSION:2.0
PRODID:-//ISPI Novo Portal
CALSCALE:GREGORIAN
METHOD:PUBLISH
X-WR-CALNAME:ISPI Novo Portal
X-ORIGINAL-URL:https://ispi.site/event/workshop-sobre-empreendedorismo/
X-WR-CALDESC:Workshop sobre Empreendedorismo
BEGIN:VEVENT
DTSTART:20230509T093000
DTEND:20230509T190000
SUMMARY:Workshop sobre Empreendedorismo
DESCRIPTION:
LOCATION:
END:VEVENT
END:VCALENDAR
