BEGIN:VCALENDAR
VERSION:2.0
PRODID:-//ISPI Novo Portal
CALSCALE:GREGORIAN
METHOD:PUBLISH
X-WR-CALNAME:ISPI Novo Portal
X-ORIGINAL-URL:https://ispi.site/event/seminario-socioambiental-brasil-angola/
X-WR-CALDESC:Seminário Socioambiental Brasil &#8211; Angola
BEGIN:VEVENT
DTSTART:20230530T090000
DTEND:20230604T173000
SUMMARY:Seminário Socioambiental Brasil &#8211; Angola
DESCRIPTION:
LOCATION:
END:VEVENT
END:VCALENDAR
