BEGIN:VCALENDAR
VERSION:2.0
PRODID:-//ISPI Novo Portal
CALSCALE:GREGORIAN
METHOD:PUBLISH
X-WR-CALNAME:ISPI Novo Portal
X-ORIGINAL-URL:https://ispi.site/event/jornada-educar-angola-hoje/
X-WR-CALDESC:Jornada Educar Angola Hoje
BEGIN:VEVENT
DTSTART:20230505T090000
DTEND:20230505T060000
SUMMARY:Jornada Educar Angola Hoje
DESCRIPTION:
LOCATION:
END:VEVENT
END:VCALENDAR
