BEGIN:VCALENDAR
VERSION:2.0
PRODID:-//ISPI Novo Portal
CALSCALE:GREGORIAN
METHOD:PUBLISH
X-WR-CALNAME:ISPI Novo Portal
X-ORIGINAL-URL:https://ispi.site/event/poesia-no-ispi/
X-WR-CALDESC:Poesia no ISPI
BEGIN:VEVENT
DTSTART:20230314T100000
DTEND:20230315T140000
SUMMARY:Poesia no ISPI
DESCRIPTION:
LOCATION:
END:VEVENT
END:VCALENDAR
