BEGIN:VCALENDAR
VERSION:2.0
PRODID:-//ISPI Novo Portal
CALSCALE:GREGORIAN
METHOD:PUBLISH
X-WR-CALNAME:ISPI Novo Portal
X-ORIGINAL-URL:https://ispi.site/event/workshop-a-mulher-na-poesia-angolana/
X-WR-CALDESC:Workshop &#8211; A mulher na Poesia Angolana
BEGIN:VEVENT
DTSTART:20230313T100000
DTEND:20230313T180000
SUMMARY:Workshop &#8211; A mulher na Poesia Angolana
DESCRIPTION:
LOCATION:
END:VEVENT
END:VCALENDAR
