BEGIN:VCALENDAR
VERSION:2.0
PRODID:-//ISPI Novo Portal
CALSCALE:GREGORIAN
METHOD:PUBLISH
X-WR-CALNAME:ISPI Novo Portal
X-ORIGINAL-URL:https://ispi.site/event/3o-congresso-cientifico-da-riec/
X-WR-CALDESC:3º Congresso Científico da RIEC
BEGIN:VEVENT
DTSTART:20230615T080000
DTEND:20230617T200000
SUMMARY:3º Congresso Científico da RIEC
DESCRIPTION:
LOCATION:
END:VEVENT
END:VCALENDAR
