BEGIN:VCALENDAR
VERSION:2.0
PRODID:-//ISPI Novo Portal
CALSCALE:GREGORIAN
METHOD:PUBLISH
X-WR-CALNAME:ISPI Novo Portal
X-ORIGINAL-URL:https://ispi.site/event/team-building-ispi-2023/
X-WR-CALDESC:Team Building ISPI &#8211; 2023
BEGIN:VEVENT
DTSTART:20230121T090000
DTEND:20230121T190000
SUMMARY:Team Building ISPI &#8211; 2023
DESCRIPTION:
LOCATION:
END:VEVENT
END:VCALENDAR
