BEGIN:VCALENDAR
VERSION:2.0
PRODID:-//ISPI Novo Portal
CALSCALE:GREGORIAN
METHOD:PUBLISH
X-WR-CALNAME:ISPI Novo Portal
X-ORIGINAL-URL:https://ispi.site/event/inicio-das-provas-de-frequencia/
X-WR-CALDESC:Inicio das Provas de Frequência
BEGIN:VEVENT
DTSTART:20230116T070000
DTEND:20230116T110000
SUMMARY:Inicio das Provas de Frequência
DESCRIPTION:
LOCATION:
END:VEVENT
END:VCALENDAR
