BEGIN:VCALENDAR
VERSION:2.0
PRODID:-//ISPI Novo Portal
CALSCALE:GREGORIAN
METHOD:PUBLISH
X-WR-CALNAME:ISPI Novo Portal
X-ORIGINAL-URL:https://ispi.site/event/natal-solidario/
X-WR-CALDESC:Natal Solidário
BEGIN:VEVENT
DTSTART:20221128T080000
DTEND:20221214T100000
SUMMARY:Natal Solidário
DESCRIPTION:
LOCATION:
END:VEVENT
END:VCALENDAR
