BEGIN:VCALENDAR
VERSION:2.0
PRODID:-//ISPI Novo Portal
CALSCALE:GREGORIAN
METHOD:PUBLISH
X-WR-CALNAME:ISPI Novo Portal
X-ORIGINAL-URL:https://ispi.site/event/palestra-sobre-a-prevencao-e-tratamento-do-cancro-da-prostata/
X-WR-CALDESC:Palestra sobre a prevenção e tratamento do cancro da próstata
BEGIN:VEVENT
DTSTART:20221128T143000
DTEND:20221128T100000
SUMMARY:Palestra sobre a prevenção e tratamento do cancro da próstata
DESCRIPTION:
LOCATION:
END:VEVENT
END:VCALENDAR
