BEGIN:VCALENDAR
VERSION:2.0
PRODID:-//ISPI Novo Portal
CALSCALE:GREGORIAN
METHOD:PUBLISH
X-WR-CALNAME:ISPI Novo Portal
X-ORIGINAL-URL:https://ispi.site/event/sexualidades-e-prazer/
X-WR-CALDESC:Sexualidades e Prazer
BEGIN:VEVENT
DTSTART:20221123T080000
DTEND:20221125T200000
SUMMARY:Sexualidades e Prazer
DESCRIPTION:
LOCATION:
END:VEVENT
END:VCALENDAR
