BEGIN:VCALENDAR
VERSION:2.0
PRODID:-//ISPI Novo Portal
CALSCALE:GREGORIAN
METHOD:PUBLISH
X-WR-CALNAME:ISPI Novo Portal
X-ORIGINAL-URL:https://ispi.site/event/138391/
X-WR-CALDESC:Semana do Caloiro
BEGIN:VEVENT
DTSTART:20221124T080000
DTEND:20221126T200000
SUMMARY:Semana do Caloiro
DESCRIPTION:
LOCATION:
END:VEVENT
END:VCALENDAR
