BEGIN:VCALENDAR
VERSION:2.0
PRODID:-//ISPI Novo Portal
CALSCALE:GREGORIAN
METHOD:PUBLISH
X-WR-CALNAME:ISPI Novo Portal
X-ORIGINAL-URL:https://ispi.site/event/palestra/
X-WR-CALDESC:Palestra Outubro Rosa
BEGIN:VEVENT
DTSTART:20221026T100000
DTEND:20221026T120000
SUMMARY:Palestra Outubro Rosa
DESCRIPTION:
LOCATION:
END:VEVENT
END:VCALENDAR
