BEGIN:VCALENDAR
VERSION:2.0
PRODID:-//ISPI Novo Portal
CALSCALE:GREGORIAN
METHOD:PUBLISH
X-WR-CALNAME:ISPI Novo Portal
X-ORIGINAL-URL:https://ispi.site/event/cerimonia-de-outorga-de-diplomas-aos-finalistas-do-ispi-22-abril/
X-WR-CALDESC:Cerimónia de Outorga de Diplomas aos Finalistas do ISPI 22 abril
BEGIN:VEVENT
DTSTART:20220422T070000
DTEND:20220422T100000
SUMMARY:Cerimónia de Outorga de Diplomas aos Finalistas do ISPI 22 abril
DESCRIPTION:
LOCATION:
END:VEVENT
END:VCALENDAR
