BEGIN:VCALENDAR
VERSION:2.0
PRODID:-//ISPI Novo Portal
CALSCALE:GREGORIAN
METHOD:PUBLISH
X-WR-CALNAME:ISPI Novo Portal
X-ORIGINAL-URL:https://ispi.site/event/inauguracao-do-centro-de-estudos/
X-WR-CALDESC:Inauguração do Centro de Estudos
BEGIN:VEVENT
DTSTART:20211011T090000
DTEND:20211011T100000
SUMMARY:Inauguração do Centro de Estudos
DESCRIPTION:
LOCATION:Estrada do Cristo Rei - Rua Mundindi
END:VEVENT
END:VCALENDAR
