BEGIN:VCALENDAR
VERSION:2.0
PRODID:-//ISPI Novo Portal
CALSCALE:GREGORIAN
METHOD:PUBLISH
X-WR-CALNAME:ISPI Novo Portal
X-ORIGINAL-URL:https://ispi.site/event/aula-de-pesquisa-e-investigacao-cientifica-com-professor-justino-cangue/
X-WR-CALDESC:Aula de Pesquisa e Investigação Científica com Professor Justino Cangue
BEGIN:VEVENT
DTSTART:20211011T100000
DTEND:20211011T120000
SUMMARY:Aula de Pesquisa e Investigação Científica com Professor Justino Cangue
DESCRIPTION:
LOCATION:Estrada do Cristo Rei - Rua Mundindi
END:VEVENT
END:VCALENDAR
