BEGIN:VCALENDAR
VERSION:2.0
PRODID:-//ISPI Novo Portal
CALSCALE:GREGORIAN
METHOD:PUBLISH
X-WR-CALNAME:ISPI Novo Portal
X-ORIGINAL-URL:https://ispi.site/event/curso-sobre-praticas-educativas-inclusivas-para-alunos-com-deficiencia-auditiva/
X-WR-CALDESC:Curso sobre Práticas Educativas Inclusivas para alunos com deficiência auditiva
BEGIN:VEVENT
DTSTART:20200302T000000
DTEND:20200302T000000
SUMMARY:Curso sobre Práticas Educativas Inclusivas para alunos com deficiência auditiva
DESCRIPTION:
LOCATION:
END:VEVENT
END:VCALENDAR
