BEGIN:VCALENDAR
VERSION:2.0
PRODID:-//ISPI Novo Portal
CALSCALE:GREGORIAN
METHOD:PUBLISH
X-WR-CALNAME:ISPI Novo Portal
X-ORIGINAL-URL:https://ispi.site/event/coloquio-aborda-a-verdade-por-detras-da-cabula/
X-WR-CALDESC:Colóquio aborda A Verdade por Detrás da &#8220;Cábula&#8221;
BEGIN:VEVENT
DTSTART:20210512T000000
DTEND:20210512T000000
SUMMARY:Colóquio aborda A Verdade por Detrás da &#8220;Cábula&#8221;
DESCRIPTION:
LOCATION:
END:VEVENT
END:VCALENDAR
