BEGIN:VCALENDAR
VERSION:2.0
PRODID:-//ISPI Novo Portal
CALSCALE:GREGORIAN
METHOD:PUBLISH
X-WR-CALNAME:ISPI Novo Portal
X-ORIGINAL-URL:https://ispi.site/event/seminario-internacional-de-seguranca-higiene-e-saude-no-trabalho/
X-WR-CALDESC:Seminário Internacional de Segurança, Higiene e Saúde no Trabalho
BEGIN:VEVENT
DTSTART:20210521T000000
DTEND:20210522T000000
SUMMARY:Seminário Internacional de Segurança, Higiene e Saúde no Trabalho
DESCRIPTION:
LOCATION:
END:VEVENT
END:VCALENDAR
